BEGIN:VCALENDAR
VERSION:2.0
PRODID:-//Small Business Assistance Corporation - ECPv6.15.20//NONSGML v1.0//EN
CALSCALE:GREGORIAN
METHOD:PUBLISH
X-ORIGINAL-URL:https://sbacsav.com
X-WR-CALDESC:Events for Small Business Assistance Corporation
REFRESH-INTERVAL;VALUE=DURATION:PT1H
X-Robots-Tag:noindex
X-PUBLISHED-TTL:PT1H
BEGIN:VTIMEZONE
TZID:America/New_York
BEGIN:DAYLIGHT
TZOFFSETFROM:-0500
TZOFFSETTO:-0400
TZNAME:EDT
DTSTART:20220313T070000
END:DAYLIGHT
BEGIN:STANDARD
TZOFFSETFROM:-0400
TZOFFSETTO:-0500
TZNAME:EST
DTSTART:20221106T060000
END:STANDARD
BEGIN:DAYLIGHT
TZOFFSETFROM:-0500
TZOFFSETTO:-0400
TZNAME:EDT
DTSTART:20230312T070000
END:DAYLIGHT
BEGIN:STANDARD
TZOFFSETFROM:-0400
TZOFFSETTO:-0500
TZNAME:EST
DTSTART:20231105T060000
END:STANDARD
BEGIN:DAYLIGHT
TZOFFSETFROM:-0500
TZOFFSETTO:-0400
TZNAME:EDT
DTSTART:20240310T070000
END:DAYLIGHT
BEGIN:STANDARD
TZOFFSETFROM:-0400
TZOFFSETTO:-0500
TZNAME:EST
DTSTART:20241103T060000
END:STANDARD
BEGIN:DAYLIGHT
TZOFFSETFROM:-0500
TZOFFSETTO:-0400
TZNAME:EDT
DTSTART:20250309T070000
END:DAYLIGHT
BEGIN:STANDARD
TZOFFSETFROM:-0400
TZOFFSETTO:-0500
TZNAME:EST
DTSTART:20251102T060000
END:STANDARD
BEGIN:DAYLIGHT
TZOFFSETFROM:-0500
TZOFFSETTO:-0400
TZNAME:EDT
DTSTART:20260308T070000
END:DAYLIGHT
BEGIN:STANDARD
TZOFFSETFROM:-0400
TZOFFSETTO:-0500
TZNAME:EST
DTSTART:20261101T060000
END:STANDARD
END:VTIMEZONE
BEGIN:VEVENT
DTSTART;TZID=America/New_York:20250121T160000
DTEND;TZID=America/New_York:20250121T170000
DTSTAMP:20260422T070304
CREATED:20250107T161834Z
LAST-MODIFIED:20250107T162037Z
UID:10000214-1737475200-1737478800@sbacsav.com
SUMMARY:Credit Building for Entrepreneurs_1/21/25
DESCRIPTION:Register today for this FREE Credit Building Workshop. to help individuals and small businesses rebuild or establish strong credit to reach their business goals. During the workshop\, you will learn how to pull\, read\, and repair your credit score and find out how you can qualify for a $1\,000 small business loan! \nWhen: Tuesday\, January 21\, 2025\, 4:00 pm to 5:00 pm \nWhere: Savannah Civic Center. Hybrid (In-person attendance is strongly encouraged.) \nCost: FREE \n 
URL:https://sbacsav.com/event/credit-building-for-entrepreneurs-1-21-25/
LOCATION:Savannah Civic Center (2nd floor)\, 301 W Oglethorpe Ave\, Savannah\, GA\, 31401\, United States
CATEGORIES:Workshops
ATTACH;FMTTYPE=image/png:https://sbacsav.com/wp-content/uploads/2024/11/Credit-Building-Loan-Program-2025-Zoom-5-×-3-in.png
ORGANIZER;CN="Small Business Assistance Corporation (SBAC)":MAILTO:sbac@sbacsav.com
END:VEVENT
BEGIN:VEVENT
DTSTART;TZID=America/New_York:20250304T160000
DTEND;TZID=America/New_York:20250304T170000
DTSTAMP:20260422T070304
CREATED:20241217T172839Z
LAST-MODIFIED:20241218T191945Z
UID:10000213-1741104000-1741107600@sbacsav.com
SUMMARY:SBAC Construction Industry Workshop: Workforce Recruitment and Retention Strategies
DESCRIPTION:Jenna Barzaga\, Commercial and Residential Real Estate Agent \nParker Scott Properties \nLearn effective strategies for building and retaining a skilled workforce\, a crucial asset for any construction company aiming for growth. \nWhen: Tuesday\, March 4\, 2025 \nTime: 4:00 pm to 5:00 pm \nWhere: Savannah Civic Center & Hybrid: (In-person attendance is strongly recommended)  \nCost: Free \n \n 
URL:https://sbacsav.com/event/sbac-construction-industry-workshop-workforce-recruitment-and-retention-strategies/
LOCATION:Savannah Civic Center (2nd floor)\, 301 W Oglethorpe Ave\, Savannah\, GA\, 31401\, United States
CATEGORIES:Networking,Workshops
ATTACH;FMTTYPE=image/png:https://sbacsav.com/wp-content/uploads/2024/12/March-4_Zoom-Image-_Construction-Workshop-2025-1920-x-1080-px.png
ORGANIZER;CN="Small Business Assistance Corporation (SBAC)":MAILTO:sbac@sbacsav.com
END:VEVENT
BEGIN:VEVENT
DTSTART;TZID=America/New_York:20250225T160000
DTEND;TZID=America/New_York:20250225T170000
DTSTAMP:20260422T070304
CREATED:20241217T172014Z
LAST-MODIFIED:20241218T191346Z
UID:10000212-1740499200-1740502800@sbacsav.com
SUMMARY:SBAC Construction Industry Workshop: Contract Administration
DESCRIPTION:Understanding Project Management and Draw Request Processes\nTodd Mayo\, Vice President\, Savannah Division \nand\nJ. David Martin\, Savannah Operations Manager \nOmega Construction \nLearn advanced project management techniques and a deep dive into the draw request process\, ensuring efficient cash flow and project execution. \nWhen: Tuesday\, February 25\, 2025 \nTime: 4:00 pm to 5:00 pm \nWhere: Savannah Civic Center & Hybrid: (In-person attendance is strongly recommended)  \nCost: Free \n \n 
URL:https://sbacsav.com/event/sbac-construction-industry-workshop-contract-administration/
LOCATION:Savannah Civic Center (2nd floor)\, 301 W Oglethorpe Ave\, Savannah\, GA\, 31401\, United States
CATEGORIES:Networking,Workshops
ATTACH;FMTTYPE=image/png:https://sbacsav.com/wp-content/uploads/2024/12/Feb-25_Zoom-Image-_Construction-Workshop-2025-1920-x-1080-px.png
ORGANIZER;CN="Small Business Assistance Corporation (SBAC)":MAILTO:sbac@sbacsav.com
END:VEVENT
BEGIN:VEVENT
DTSTART;TZID=America/New_York:20250218T160000
DTEND;TZID=America/New_York:20250218T170000
DTSTAMP:20260422T070304
CREATED:20241217T171228Z
LAST-MODIFIED:20241217T174209Z
UID:10000211-1739894400-1739898000@sbacsav.com
SUMMARY:SBAC Construction Industry Workshop: Securing Business Funding with SBAC
DESCRIPTION:Sue Strickland\, Loan Officer \nand \nKassidy E. Jones\, Business Advisory Services Manager \nSmall Business Assistance Corporation \nExplore various financing options\, including loans and grants\, to support your expansion and capacity for larger projects. \nWhen: Tuesday\, February 18\, 2025 \nTime: 4:00 pm to 5:00 pm \nWhere: Savannah Civic Center & Hybrid: (In-person attendance is strongly recommended)  \nCost: Free \n \n 
URL:https://sbacsav.com/event/sbac-construction-industry-workshop-securing-business-funding-with-sbac/
LOCATION:Savannah Civic Center (2nd floor)\, 301 W Oglethorpe Ave\, Savannah\, GA\, 31401\, United States
CATEGORIES:Networking,Workshops
ATTACH;FMTTYPE=image/png:https://sbacsav.com/wp-content/uploads/2024/12/Feb-18_Zoom-Image-_Construction-Workshop-2025-1920-x-1080-px.png
ORGANIZER;CN="Small Business Assistance Corporation (SBAC)":MAILTO:sbac@sbacsav.com
END:VEVENT
BEGIN:VEVENT
DTSTART;TZID=America/New_York:20250211T160000
DTEND;TZID=America/New_York:20250211T170000
DTSTAMP:20260422T070304
CREATED:20241217T164216Z
LAST-MODIFIED:20250203T183859Z
UID:10000210-1739289600-1739293200@sbacsav.com
SUMMARY:SBAC Construction Industry Workshop: Certification\, Insurance\, Bonding\, and Compliance Essentials
DESCRIPTION:Arneja Riley\, MWBE Solutions Expert \nA. Riley Consultants \nand \nJess Neeley\, Licensed Property & Casualty Insurance Agent \nBeach Insurance Group\, Inc \nUnderstand critical insurance\, bonding\, and compliance requirements that protect your business and meet industry standards. \nWhen: Tuesday\, February 11\, 2025 \nTime: 4:00 pm to 5:00 pm \nWhere: Savannah Civic Center & Hybrid: (In-person attendance is strongly recommended)  \nCost: Free \n \n 
URL:https://sbacsav.com/event/sbac-construction-industry-workshop-certification-insurance-bonding-and-compliance-essentials/
LOCATION:Savannah Civic Center (2nd floor)\, 301 W Oglethorpe Ave\, Savannah\, GA\, 31401\, United States
CATEGORIES:Networking,Workshops
ATTACH;FMTTYPE=image/png:https://sbacsav.com/wp-content/uploads/2024/12/Feb-11_Zoom-Image-_Construction-Workshop-2025-1920-x-1080-px-1.png
ORGANIZER;CN="Small Business Assistance Corporation (SBAC)":MAILTO:sbac@sbacsav.com
END:VEVENT
BEGIN:VEVENT
DTSTART;TZID=America/New_York:20250204T160000
DTEND;TZID=America/New_York:20250204T170000
DTSTAMP:20260422T070304
CREATED:20241217T163042Z
LAST-MODIFIED:20241218T185110Z
UID:10000209-1738684800-1738688400@sbacsav.com
SUMMARY:SBAC Construction Industry Workshop: Strategies for Preparing a Winning Bid
DESCRIPTION:for Success\nDavid Hamilton\, CEO/President \nCharles Perry Partners\, Inc. \nApply your knowledge to develop competitive bids that enhance your chances of securing contracts. \nWhen: Tuesday\, February 4\, 2025 \nWhere: Savannah Civic Center & Hybrid: (In-person attendance is strongly recommended)  \nTime: 4:00 pm to 5:00 pm \nCost: Free \n \n 
URL:https://sbacsav.com/event/sbac-construction-industry-workshop-strategies-for-preparing-a-winning-bid/
LOCATION:Savannah Civic Center (2nd floor)\, 301 W Oglethorpe Ave\, Savannah\, GA\, 31401\, United States
CATEGORIES:Networking,Workshops
ATTACH;FMTTYPE=image/png:https://sbacsav.com/wp-content/uploads/2024/12/Feb-4_Zoom-Image-_Construction-Workshop-2025-1920-x-1080-px.png
ORGANIZER;CN="Small Business Assistance Corporation (SBAC)":MAILTO:sbac@sbacsav.com
END:VEVENT
BEGIN:VEVENT
DTSTART;TZID=America/New_York:20250114T160000
DTEND;TZID=America/New_York:20250114T170000
DTSTAMP:20260422T070304
CREATED:20241217T162835Z
LAST-MODIFIED:20241217T184148Z
UID:10000208-1736870400-1736874000@sbacsav.com
SUMMARY:SBAC Construction Industry Workshop: Introduction to the Construction Industry
DESCRIPTION:Opportunities and Key Principles\nDAWN MORGAN\, CEO/President \nCollins Construction Services\, Inc. \nGain an overview of the construction industry landscape\, explore growth opportunities\, and learn essential principles for establishing and building a reputable\, successful company. \nWhen: Tuesday\, January 14\, 2025 \nTime: 4:00 pm to 5:00 pm \nWhere: Savannah Civic Center & Hybrid: (In-person attendance is strongly recommended)  \nCost: Free \n \n 
URL:https://sbacsav.com/event/sbac-construction-introduction-to-construction/
LOCATION:Savannah Civic Center (2nd floor)\, 301 W Oglethorpe Ave\, Savannah\, GA\, 31401\, United States
CATEGORIES:Networking,Workshops
ATTACH;FMTTYPE=image/png:https://sbacsav.com/wp-content/uploads/2024/12/Jan-14_Zoom-Image-_Construction-Workshop-2025-1920-x-1080-px.png
ORGANIZER;CN="Small Business Assistance Corporation (SBAC)":MAILTO:sbac@sbacsav.com
END:VEVENT
BEGIN:VEVENT
DTSTART;TZID=America/New_York:20250128T160000
DTEND;TZID=America/New_York:20250128T170000
DTSTAMP:20260422T070304
CREATED:20241216T171624Z
LAST-MODIFIED:20241218T180900Z
UID:10000207-1738080000-1738083600@sbacsav.com
SUMMARY:SBAC Construction Industry Workshop Understanding Construction Plans
DESCRIPTION:for Accurate Project Execution\nCarl Biathrow\, Business Development Coordonator \nCity Of Savannah \nLearn how to read and interpret construction plans\, an essential skill for accurate project planning and execution. \nWhen: Tuesday\, January 28\, 2025 \nWhere: Savannah Civic Center & Hybrid: (In-person attendance is strongly recommended) \nTime: 4:00 pm to 5:00 pm \nCost: Free \n \n 
URL:https://sbacsav.com/event/sbac-construction-industry-workshop-understanding-construction-plans/
LOCATION:Savannah Civic Center (2nd floor)\, 301 W Oglethorpe Ave\, Savannah\, GA\, 31401\, United States
CATEGORIES:Networking,Workshops
ATTACH;FMTTYPE=image/png:https://sbacsav.com/wp-content/uploads/2024/12/Jan-28_Zoom-Image-_Construction-Workshop-2025-1920-x-1080-px.png
ORGANIZER;CN="Small Business Assistance Corporation (SBAC)":MAILTO:sbac@sbacsav.com
END:VEVENT
BEGIN:VEVENT
DTSTART;TZID=America/New_York:20250121T160000
DTEND;TZID=America/New_York:20250121T170000
DTSTAMP:20260422T070304
CREATED:20241121T153802Z
LAST-MODIFIED:20241217T170624Z
UID:10000193-1737475200-1737478800@sbacsav.com
SUMMARY:Credit Building for Entrepreneurs 1/21/25
DESCRIPTION:In addition to the regularly scheduled SBAC’s bi-monthly Credit Builder workshops\, this session is being held as part of the Construction Industry Workshop Series. We encourage anyone interested in learning more about the program to attend. \nRegister today for this FREE Credit Building Workshop. to help individuals and small businesses rebuild or establish strong credit to reach their business goals. During the workshop\, you will learn how to pull\, read\, and repair your credit score and find out how you can qualify for a $1\,000 small business loan! \nWhen: Tuesday\, January 21\, 2025\, 4:00 pm to 5:00 pm \nWhere: Savannah Civic Center. Hybrid (In-person attendance is strongly encouraged.) \nCost: FREE \n 
URL:https://sbacsav.com/event/credit-building-workshop-1-21-25/
LOCATION:Savannah Civic Center (2nd floor)\, 301 W Oglethorpe Ave\, Savannah\, GA\, 31401\, United States
CATEGORIES:Workshops
ATTACH;FMTTYPE=image/png:https://sbacsav.com/wp-content/uploads/2024/11/Jan-21-Zoom-Image-_Construction-Workshop-2025-1920-x-1080-px.png
ORGANIZER;CN="Small Business Assistance Corporation (SBAC)":MAILTO:sbac@sbacsav.com
END:VEVENT
BEGIN:VEVENT
DTSTART;TZID=America/New_York:20240529T113000
DTEND;TZID=America/New_York:20240529T130000
DTSTAMP:20260422T070304
CREATED:20240425T152607Z
LAST-MODIFIED:20240507T160522Z
UID:10000191-1716982200-1716987600@sbacsav.com
SUMMARY:Service Provider Workshop: Increasing Business Visibility through Press Releases
DESCRIPTION:Understanding how press releases can increase your business’s visibility\, credibility\, and online influence.\n\n\n\n \nMarjorie Young\, President & CEO \nCarriage Trade PR  \nDiscover why press releases are crucial for your business. Learn how to use them for effective public relations and to increase brand presence across your website\, social media channels\, and SEO efforts. \nLearn to use press releases to enhance your business at our workshop. Our expert instructor will guide you through writing impactful press releases with compelling content and strategic distribution tactics. Discover why press releases are crucial for your business\, and how to use them to increase your brand presence across your website\, social media channels\, and SEO efforts. By the end of the workshop\, you’ll have the skills and confidence to use press releases as a powerful PR tool. Join us now to boost your business’s visibility and reputation.
URL:https://sbacsav.com/event/service-provider-workshop-increasing-business-visibility-through-press-releases/
LOCATION:Savannah Civic Center (2nd floor)\, 301 W Oglethorpe Ave\, Savannah\, GA\, 31401\, United States
CATEGORIES:Networking,Workshops
ATTACH;FMTTYPE=image/png:https://sbacsav.com/wp-content/uploads/2024/04/Service-Provider-Workshops-Series-Event-Feature-Image-5.png
ORGANIZER;CN="Small Business Assistance Corporation (SBAC)":MAILTO:sbac@sbacsav.com
END:VEVENT
BEGIN:VEVENT
DTSTART;TZID=America/New_York:20240522T113000
DTEND;TZID=America/New_York:20240522T130000
DTSTAMP:20260422T070304
CREATED:20240425T152309Z
LAST-MODIFIED:20240507T160334Z
UID:10000190-1716377400-1716382800@sbacsav.com
SUMMARY:Service Provider Workshop: Using AI to Automate Your Business
DESCRIPTION:See how AI can help save you time in your business\n\n\n\n \nTersh Blissett\, Champion of Automation Innovation and Podcast Co-Host \nService Business Mastery \nThe exponential growth in technology can be hard to keep up with. Hear how AI is more accessible than ever and can save you time in your business. \nExplore the transformative impact of AI on business efficiency in this enlightening workshop. Learn how AI technologies can effectively save you valuable time amid the rapid evolution of technology. Discover how AI is now more accessible than ever before\, offering practical solutions to streamline operations and enhance productivity in your business. Gain insights into specific AI applications that can optimize processes\, automate tasks\, and empower you to stay ahead in today’s competitive landscape. Join us to harness the potential of AI and unlock newfound efficiencies for your business success.
URL:https://sbacsav.com/event/service-provider-workshop-using-ai-to-automate-your-business/
LOCATION:Savannah Civic Center (2nd floor)\, 301 W Oglethorpe Ave\, Savannah\, GA\, 31401\, United States
CATEGORIES:Networking,Workshops
ATTACH;FMTTYPE=image/png:https://sbacsav.com/wp-content/uploads/2024/04/Service-Provider-Workshops-Series-Event-Feature-Image-5.png
ORGANIZER;CN="Small Business Assistance Corporation (SBAC)":MAILTO:sbac@sbacsav.com
END:VEVENT
BEGIN:VEVENT
DTSTART;TZID=America/New_York:20240501T113000
DTEND;TZID=America/New_York:20240501T130000
DTSTAMP:20260422T070304
CREATED:20240425T151822Z
LAST-MODIFIED:20240425T151822Z
UID:10000189-1714563000-1714568400@sbacsav.com
SUMMARY:Service Provider Workshop: Driving Business Growth Using Data
DESCRIPTION:Learn how data-driven tools can strategically elevate your business success.\n\n\n\n \nBecky Brownlee\, Area Director & Valerie McElveen\, Area Director \nSmall Business Development Center \nResources to analyze your business’s industry\, market\, and competition data. Learn how to accurately calculate your business’s value. \nIs it time to take your business to the next level?  Discover how the power of data-driven tools can help you achieve success in this workshop. We’ll guide you through analyzing industry\, market\, and competition data to make informed decisions and provide insights on how to accurately calculate your business’s value. Let’s optimize your growth and competitiveness in the market!
URL:https://sbacsav.com/event/service-provider-workshop-driving-business-growth-using-data/
LOCATION:Savannah Civic Center (2nd floor)\, 301 W Oglethorpe Ave\, Savannah\, GA\, 31401\, United States
CATEGORIES:Networking,Workshops
ATTACH;FMTTYPE=image/png:https://sbacsav.com/wp-content/uploads/2024/04/Service-Provider-Workshops-Series-Event-Feature-Image-5.png
ORGANIZER;CN="Small Business Assistance Corporation (SBAC)":MAILTO:sbac@sbacsav.com
END:VEVENT
BEGIN:VEVENT
DTSTART;TZID=America/New_York:20240515T113000
DTEND;TZID=America/New_York:20240515T130000
DTSTAMP:20260422T070304
CREATED:20240425T151339Z
LAST-MODIFIED:20240507T160137Z
UID:10000188-1715772600-1715778000@sbacsav.com
SUMMARY:Service Provider Workshop: Understanding Your Business Financial Statements
DESCRIPTION:Learn how to read and understand your income statement and balance sheet. \n\n\n\n \nMonisha Johnson-Scott\, CPA\, President & CEO \nMM Johnson CPA \nSee how your financial statements reflect your business’s financial health. \nDiscover the art of maximizing your team’s potential in this dynamic workshop. Learn effective leadership strategies to motivate and guide your team through the cultivation of a robust organizational culture. Gain insights into human behavior and personality types to enhance your human resources management skills. Unlock the secrets to fostering a high-performing and harmonious team environment that drives success and innovation.
URL:https://sbacsav.com/event/service-provider-workshop-understanding-your-business-financial-statements/
LOCATION:Savannah Civic Center (2nd floor)\, 301 W Oglethorpe Ave\, Savannah\, GA\, 31401\, United States
CATEGORIES:Networking,Workshops
ATTACH;FMTTYPE=image/png:https://sbacsav.com/wp-content/uploads/2024/04/Service-Provider-Workshops-Series-Event-Feature-Image-5.png
ORGANIZER;CN="Small Business Assistance Corporation (SBAC)":MAILTO:sbac@sbacsav.com
END:VEVENT
BEGIN:VEVENT
DTSTART;TZID=America/New_York:20240508T113000
DTEND;TZID=America/New_York:20240508T130000
DTSTAMP:20260422T070304
CREATED:20240415T132555Z
LAST-MODIFIED:20240507T155927Z
UID:10000172-1715167800-1715173200@sbacsav.com
SUMMARY:Service Provider Workshop: Developing You and Your Small Business Team
DESCRIPTION: Learn how to lead your team to their maximum potential\n\n\n\n \nDr. Miller Bargeron\, Jr.\, Mindset Integration Specialist \nMI Global \nLead and motivate through a strong organizational culture. Understanding human behavior and personality types to build your human resources. \nDiscover the art of maximizing your team’s potential in this dynamic workshop. Learn effective leadership strategies to motivate and guide your team through the cultivation of a robust organizational culture. Gain insights into human behavior and personality types to enhance your human resources management skills. Unlock the secrets to fostering a high-performing and harmonious team environment that drives success and innovation.
URL:https://sbacsav.com/event/driving-business-growth-using-data-2/
LOCATION:Savannah Civic Center (2nd floor)\, 301 W Oglethorpe Ave\, Savannah\, GA\, 31401\, United States
CATEGORIES:Networking,Workshops
ATTACH;FMTTYPE=image/png:https://sbacsav.com/wp-content/uploads/2024/04/Service-Provider-Workshops-Series-Event-Feature-Image-5.png
ORGANIZER;CN="Small Business Assistance Corporation (SBAC)":MAILTO:sbac@sbacsav.com
END:VEVENT
BEGIN:VEVENT
DTSTART;TZID=America/New_York:20240227T100000
DTEND;TZID=America/New_York:20240227T110000
DTSTAMP:20260422T070304
CREATED:20231130T205348Z
LAST-MODIFIED:20231130T205348Z
UID:10000161-1709028000-1709031600@sbacsav.com
SUMMARY:Vendor Opportunities for Cosmetologists
DESCRIPTION:Register today for this FREE Workshop series. \nVendor Opportunities for Cosmetologists. Presented by Kimberly Cutter. In this session\, she will be sharing valuable information on how you have a career working in tv and film as a cosmetologist. \nWhere: Hybrid (In-person attendance is strongly encouraged.) Savannah Civic Center\, Bryan Room\, 2nd Floor – 301 W Oglethorpe Ave\, Savannah\, GA 31401  \nCost: FREE \n 
URL:https://sbacsav.com/event/vendor-opportunities-for-cosmetologists/
LOCATION:Savannah Civic Center (2nd floor)\, 301 W Oglethorpe Ave\, Savannah\, GA\, 31401\, United States
CATEGORIES:Workshops
ATTACH;FMTTYPE=image/png:https://sbacsav.com/wp-content/uploads/2023/11/Cosmetology-Workshop-Vendor-Opportunities-for-Cosmetologists-_Zoom-Image-1920-x-1080-px.png
ORGANIZER;CN="Small Business Assistance Corporation (SBAC)":MAILTO:sbac@sbacsav.com
END:VEVENT
BEGIN:VEVENT
DTSTART;TZID=America/New_York:20230628T090000
DTEND;TZID=America/New_York:20230628T110000
DTSTAMP:20260422T070304
CREATED:20230515T174656Z
LAST-MODIFIED:20230525T130111Z
UID:10000114-1687942800-1687950000@sbacsav.com
SUMMARY:Overcoming Business Challenges @ the Savannah Civic Center
DESCRIPTION:Register Now! \nEntrepreneurship may start your business\, but enjoyment will continue it. Learn how to overcome challenges in order to continue enjoying your business.
URL:https://sbacsav.com/event/overcoming-business-challenges/
LOCATION:Savannah Civic Center (2nd floor)\, 301 W Oglethorpe Ave\, Savannah\, GA\, 31401\, United States
ATTACH;FMTTYPE=image/png:https://sbacsav.com/wp-content/uploads/2023/05/Overcoming-Business-Challenges-1.png
ORGANIZER;CN="Small Business Assistance Corporation (SBAC)":MAILTO:sbac@sbacsav.com
END:VEVENT
BEGIN:VEVENT
DTSTART;TZID=America/New_York:20230621T110000
DTEND;TZID=America/New_York:20230621T130000
DTSTAMP:20260422T070304
CREATED:20230515T174333Z
LAST-MODIFIED:20230525T130043Z
UID:10000113-1687345200-1687352400@sbacsav.com
SUMMARY:Creating a Well-Designed Website @ the Savannah Civic Center
DESCRIPTION:Register Now! \nLearn how to build a business website that converts visitors into customers. Understand what attracts viewers to keep them engaged and identify opportunities for website improvements.
URL:https://sbacsav.com/event/creating-a-well-designed-website/
LOCATION:Savannah Civic Center (2nd floor)\, 301 W Oglethorpe Ave\, Savannah\, GA\, 31401\, United States
ATTACH;FMTTYPE=image/png:https://sbacsav.com/wp-content/uploads/2023/05/Creating-a-Well-Designed-Website-1.png
ORGANIZER;CN="Small Business Assistance Corporation (SBAC)":MAILTO:sbac@sbacsav.com
END:VEVENT
BEGIN:VEVENT
DTSTART;TZID=America/New_York:20230614T110000
DTEND;TZID=America/New_York:20230614T130000
DTSTAMP:20260422T070304
CREATED:20230515T172147Z
LAST-MODIFIED:20230525T130007Z
UID:10000112-1686740400-1686747600@sbacsav.com
SUMMARY:Expanding Your Personal Brand @ the Savannah Civic Center
DESCRIPTION:Register Today! \nAre you maximizing and leveraging your personal brand to make you stand out in your industry? Learn how to leverage your greatest asset for your business – YOU!
URL:https://sbacsav.com/event/expanding-your-personal-brand/
LOCATION:Savannah Civic Center (2nd floor)\, 301 W Oglethorpe Ave\, Savannah\, GA\, 31401\, United States
ATTACH;FMTTYPE=image/png:https://sbacsav.com/wp-content/uploads/2023/05/Expanding-Your-Personal-Brand-1.png
ORGANIZER;CN="Small Business Assistance Corporation (SBAC)":MAILTO:sbac@sbacsav.com
END:VEVENT
BEGIN:VEVENT
DTSTART;TZID=America/New_York:20230607T090000
DTEND;TZID=America/New_York:20230607T110000
DTSTAMP:20260422T070304
CREATED:20230515T155931Z
LAST-MODIFIED:20230525T125853Z
UID:10000111-1686128400-1686135600@sbacsav.com
SUMMARY:Adding Certifications to Your Business @ the Savannah Civic Center
DESCRIPTION:Register today! \nLearn how to obtain a business certification if you are a minority\, woman\, and/or veteran-owned business. See how adding certifications to your business can lead to extra benefits and opportunities.
URL:https://sbacsav.com/event/adding-certifications-to-your-business/
LOCATION:Savannah Civic Center (2nd floor)\, 301 W Oglethorpe Ave\, Savannah\, GA\, 31401\, United States
ATTACH;FMTTYPE=image/png:https://sbacsav.com/wp-content/uploads/2023/05/Adding-Certifications-to-Your-Business-1.png
ORGANIZER;CN="Small Business Assistance Corporation (SBAC)":MAILTO:sbac@sbacsav.com
END:VEVENT
BEGIN:VEVENT
DTSTART;TZID=America/New_York:20230531T110000
DTEND;TZID=America/New_York:20230531T130000
DTSTAMP:20260422T070304
CREATED:20230515T155432Z
LAST-MODIFIED:20230525T125748Z
UID:10000110-1685530800-1685538000@sbacsav.com
SUMMARY:Finding the Right Customers @ the Savannah Civic Center
DESCRIPTION:Register today! \nIdentify your targeted or ideal customer base. See how creating value for your best customers leads to business success.
URL:https://sbacsav.com/event/finding-the-right-customers/
LOCATION:Savannah Civic Center (2nd floor)\, 301 W Oglethorpe Ave\, Savannah\, GA\, 31401\, United States
ATTACH;FMTTYPE=image/png:https://sbacsav.com/wp-content/uploads/2023/05/Finding-the-Right-Customers-1.png
ORGANIZER;CN="Small Business Assistance Corporation (SBAC)":MAILTO:sbac@sbacsav.com
END:VEVENT
END:VCALENDAR